BEGIN:VCALENDAR
VERSION:2.0
PRODID:icalendar-ruby
CALSCALE:GREGORIAN
METHOD:PUBLISH
BEGIN:VEVENT
DTSTAMP:20260421T053917Z
UID:6-242071@stmichaelsakron.org
DTSTART:20260802T130000Z
DTEND:20260802T140000Z
CLASS:PUBLIC
CREATED:20260420T211922
DESCRIPTION:
LAST-MODIFIED:20260420T211922
LOCATION:
SUMMARY:Sunday Church Service
URL;VALUE=URI:https://www.stmichaelsakron.org/events/sunday-church-service/
 2026-08-02
ATTACH;FILENAME=20200411_162650.jpg;FMTTYPE=image/jpeg:https://dq5pwpg1q8ru
 0.cloudfront.net/2025/10/25/15/21/04/5b0ca3bd-64b4-41db-8681-5b1e1f49d185/
 20200411_162650.jpg
END:VEVENT
END:VCALENDAR
