BEGIN:VCALENDAR
VERSION:2.0
PRODID:icalendar-ruby
CALSCALE:GREGORIAN
METHOD:PUBLISH
BEGIN:VEVENT
DTSTAMP:20260420T024059Z
UID:14-241512@stmichaelsakron.org
DTSTART;VALUE=DATE:20260419
DTEND;VALUE=DATE:20260501
CLASS:PUBLIC
CREATED:20260419T154109
DESCRIPTION:
LAST-MODIFIED:20260419T154109
LOCATION:St. Michael's Lutheran Church
SUMMARY:Preschool Basket Raffle Donations 
URL;VALUE=URI:https://www.stmichaelsakron.org/events/preschool-basket-raffl
 e-donations--14/2026-04-19
END:VEVENT
END:VCALENDAR
