BEGIN:VCALENDAR
VERSION:2.0
PRODID:icalendar-ruby
CALSCALE:GREGORIAN
METHOD:PUBLISH
BEGIN:VEVENT
DTSTAMP:20260420T024759Z
UID:13-241507@stmichaelsakron.org
DTSTART:20260420T223000Z
DTEND:20260421T000000Z
CLASS:PUBLIC
CREATED:20260419T151319
DESCRIPTION:MONDAY\, APRIL 20\n6:30-8:00PM\nSt. Michael's Lutheran Preschoo
 l\n2026-2027 OPEN HOUSE \n 
LAST-MODIFIED:20260419T151319
LOCATION:St. Michael's Lutheran Church
SUMMARY:Preschool 26-27 Open House
URL;VALUE=URI:https://www.stmichaelsakron.org/events/preschool-26-27-open-h
 ouse/2026-04-20
END:VEVENT
END:VCALENDAR
